BEGIN:VCALENDAR
VERSION:2.0
PRODID:-//Brace 4 Impact - ECPv6.15.20//NONSGML v1.0//EN
CALSCALE:GREGORIAN
METHOD:PUBLISH
X-ORIGINAL-URL:https://brace4impact.com
X-WR-CALDESC:Events for Brace 4 Impact
REFRESH-INTERVAL;VALUE=DURATION:PT1H
X-Robots-Tag:noindex
X-PUBLISHED-TTL:PT1H
BEGIN:VTIMEZONE
TZID:America/Denver
BEGIN:DAYLIGHT
TZOFFSETFROM:-0700
TZOFFSETTO:-0600
TZNAME:MDT
DTSTART:20250309T090000
END:DAYLIGHT
BEGIN:STANDARD
TZOFFSETFROM:-0600
TZOFFSETTO:-0700
TZNAME:MST
DTSTART:20251102T080000
END:STANDARD
BEGIN:DAYLIGHT
TZOFFSETFROM:-0700
TZOFFSETTO:-0600
TZNAME:MDT
DTSTART:20260308T090000
END:DAYLIGHT
BEGIN:STANDARD
TZOFFSETFROM:-0600
TZOFFSETTO:-0700
TZNAME:MST
DTSTART:20261101T080000
END:STANDARD
BEGIN:DAYLIGHT
TZOFFSETFROM:-0700
TZOFFSETTO:-0600
TZNAME:MDT
DTSTART:20270314T090000
END:DAYLIGHT
BEGIN:STANDARD
TZOFFSETFROM:-0600
TZOFFSETTO:-0700
TZNAME:MST
DTSTART:20271107T080000
END:STANDARD
END:VTIMEZONE
BEGIN:VEVENT
DTSTART;TZID=America/Denver:20260228T080000
DTEND;TZID=America/Denver:20260228T170000
DTSTAMP:20260424T194743
CREATED:20260225T075944Z
LAST-MODIFIED:20260225T075944Z
UID:10000003-1772265600-1772298000@brace4impact.com
SUMMARY:LPUTATE AUGU
DESCRIPTION:Pellentesque eleifend massa vitae quam finibus\, ac sollicitudin ante gravida. Vestibulum vel viverra turpis. Vivamus sapien arcu\, placerat sed dapibus a\, tincidunt nec purus. Nullam quis dictum enim. Proin vitae consectetur erat. Cras lacinia porta enim. Nullam in sollicitudin sapien\, id dictum ligula. Nam tempor enim id tempor blandit. Ut pharetra in ipsum non laoreet. Vivamus quis ultrices eros. Nulla ac sagittis diam. Sed sed dolor quis lacus dignissim fringilla vel et dolor. Ut auctor cursus quam. Praesent finibus est ut libero lacinia semper. Pellentesque tincidunt facilisis commodo. Praesent tempor ullamcorper mattis.
URL:https://brace4impact.com/event/lputate-augu/
END:VEVENT
END:VCALENDAR