BEGIN:VCALENDAR
VERSION:2.0
PRODID:-//Brace 4 Impact - ECPv6.15.20//NONSGML v1.0//EN
CALSCALE:GREGORIAN
METHOD:PUBLISH
X-ORIGINAL-URL:https://brace4impact.com
X-WR-CALDESC:Events for Brace 4 Impact
REFRESH-INTERVAL;VALUE=DURATION:PT1H
X-Robots-Tag:noindex
X-PUBLISHED-TTL:PT1H
BEGIN:VTIMEZONE
TZID:America/Denver
BEGIN:DAYLIGHT
TZOFFSETFROM:-0700
TZOFFSETTO:-0600
TZNAME:MDT
DTSTART:20250309T090000
END:DAYLIGHT
BEGIN:STANDARD
TZOFFSETFROM:-0600
TZOFFSETTO:-0700
TZNAME:MST
DTSTART:20251102T080000
END:STANDARD
BEGIN:DAYLIGHT
TZOFFSETFROM:-0700
TZOFFSETTO:-0600
TZNAME:MDT
DTSTART:20260308T090000
END:DAYLIGHT
BEGIN:STANDARD
TZOFFSETFROM:-0600
TZOFFSETTO:-0700
TZNAME:MST
DTSTART:20261101T080000
END:STANDARD
BEGIN:DAYLIGHT
TZOFFSETFROM:-0700
TZOFFSETTO:-0600
TZNAME:MDT
DTSTART:20270314T090000
END:DAYLIGHT
BEGIN:STANDARD
TZOFFSETFROM:-0600
TZOFFSETTO:-0700
TZNAME:MST
DTSTART:20271107T080000
END:STANDARD
END:VTIMEZONE
BEGIN:VEVENT
DTSTART;TZID=America/Denver:20260227T080000
DTEND;TZID=America/Denver:20260227T170000
DTSTAMP:20260424T194138
CREATED:20260225T075906Z
LAST-MODIFIED:20260225T075906Z
UID:10000002-1772179200-1772211600@brace4impact.com
SUMMARY:ENEAN EFFICITUR
DESCRIPTION:Donec pellentesque facilisis sapien\, vitae gravida ipsum convallis a. Curabitur ornare erat sed ligula lobortis\, vel rutrum eros efficitur. Fusce bibendum leo sit amet libero bibendum\, in auctor quam elementum. Maecenas eleifend orci nec arcu lobortis bibendum. Nunc facilisis tempor rutrum. Cras ut blandit magna. Vestibulum magna velit\, euismod sed aliquam euismod\, vestibulum vitae turpis. Fusce bibendum finibus ultricies. Nam nunc libero\, convallis molestie commodo sollicitudin\, facilisis sit amet risus. Integer at tortor ultricies\, tincidunt tortor vel\, ullamcorper libero. Etiam nec ipsum non massa tempus tempus. Fusce bibendum quam vel mi ultrices fringilla.
URL:https://brace4impact.com/event/enean-efficitur/
END:VEVENT
END:VCALENDAR