BEGIN:VCALENDAR
VERSION:2.0
PRODID:-//Brace 4 Impact - ECPv6.15.20//NONSGML v1.0//EN
CALSCALE:GREGORIAN
METHOD:PUBLISH
X-WR-CALNAME:Brace 4 Impact
X-ORIGINAL-URL:https://brace4impact.com
X-WR-CALDESC:Events for Brace 4 Impact
REFRESH-INTERVAL;VALUE=DURATION:PT1H
X-Robots-Tag:noindex
X-PUBLISHED-TTL:PT1H
BEGIN:VTIMEZONE
TZID:America/Denver
BEGIN:DAYLIGHT
TZOFFSETFROM:-0700
TZOFFSETTO:-0600
TZNAME:MDT
DTSTART:20250309T090000
END:DAYLIGHT
BEGIN:STANDARD
TZOFFSETFROM:-0600
TZOFFSETTO:-0700
TZNAME:MST
DTSTART:20251102T080000
END:STANDARD
BEGIN:DAYLIGHT
TZOFFSETFROM:-0700
TZOFFSETTO:-0600
TZNAME:MDT
DTSTART:20260308T090000
END:DAYLIGHT
BEGIN:STANDARD
TZOFFSETFROM:-0600
TZOFFSETTO:-0700
TZNAME:MST
DTSTART:20261101T080000
END:STANDARD
BEGIN:DAYLIGHT
TZOFFSETFROM:-0700
TZOFFSETTO:-0600
TZNAME:MDT
DTSTART:20270314T090000
END:DAYLIGHT
BEGIN:STANDARD
TZOFFSETFROM:-0600
TZOFFSETTO:-0700
TZNAME:MST
DTSTART:20271107T080000
END:STANDARD
END:VTIMEZONE
BEGIN:VEVENT
DTSTART;TZID=America/Denver:20260226T080000
DTEND;TZID=America/Denver:20260226T170000
DTSTAMP:20260424T194743
CREATED:20260225T075829Z
LAST-MODIFIED:20260225T075829Z
UID:10000001-1772092800-1772125200@brace4impact.com
SUMMARY:URPIS VEL
DESCRIPTION:Integer dictum commodo nisl. Duis eleifend ornare tortor\, eu cursus sapien finibus quis. Pellentesque ante tellus\, pharetra vel elit in\, gravida porttitor risus. Praesent bibendum purus ipsum\, in faucibus urna pellentesque vitae. Quisque varius orci ac eleifend varius. Aenean rutrum consectetur tincidunt. Morbi lectus sem\, pellentesque a sagittis quis\, euismod non nisl. Proin rutrum metus nec nibh condimentum\, eget tincidunt purus egestas. Curabitur bibendum mattis condimentum. Nulla laoreet volutpat sapien\, in placerat arcu suscipit sed. Cras sodales dui et libero ultrices\, eget condimentum augue sollicitudin. Aliquam et lectus erat. Quisque nec est eu urna egestas suscipit eget vitae urna. Nullam justo magna\, tempus quis mattis vel\, sodales ac orci.
URL:https://brace4impact.com/event/urpis-vel/
ATTACH;FMTTYPE=image/webp:https://brace4impact.com/wp-content/uploads/woocommerce-placeholder.webp
END:VEVENT
END:VCALENDAR